BEGIN:VCALENDAR
VERSION:2.0
PRODID:-//Trauma Matters Delaware - ECPv6.15.20//NONSGML v1.0//EN
CALSCALE:GREGORIAN
METHOD:PUBLISH
X-WR-CALNAME:Trauma Matters Delaware
X-ORIGINAL-URL:https://traumamattersdelaware.org
X-WR-CALDESC:Events for Trauma Matters Delaware
REFRESH-INTERVAL;VALUE=DURATION:PT1H
X-Robots-Tag:noindex
X-PUBLISHED-TTL:PT1H
BEGIN:VTIMEZONE
TZID:America/New_York
BEGIN:DAYLIGHT
TZOFFSETFROM:-0500
TZOFFSETTO:-0400
TZNAME:EDT
DTSTART:20230312T070000
END:DAYLIGHT
BEGIN:STANDARD
TZOFFSETFROM:-0400
TZOFFSETTO:-0500
TZNAME:EST
DTSTART:20231105T060000
END:STANDARD
BEGIN:DAYLIGHT
TZOFFSETFROM:-0500
TZOFFSETTO:-0400
TZNAME:EDT
DTSTART:20240310T070000
END:DAYLIGHT
BEGIN:STANDARD
TZOFFSETFROM:-0400
TZOFFSETTO:-0500
TZNAME:EST
DTSTART:20241103T060000
END:STANDARD
BEGIN:DAYLIGHT
TZOFFSETFROM:-0500
TZOFFSETTO:-0400
TZNAME:EDT
DTSTART:20250309T070000
END:DAYLIGHT
BEGIN:STANDARD
TZOFFSETFROM:-0400
TZOFFSETTO:-0500
TZNAME:EST
DTSTART:20251102T060000
END:STANDARD
END:VTIMEZONE
BEGIN:VEVENT
DTSTART;TZID=America/New_York:20240418T090000
DTEND;TZID=America/New_York:20240419T160000
DTSTAMP:20260421T061538
CREATED:20240301T183222Z
LAST-MODIFIED:20240301T183222Z
UID:2998-1713430800-1713542400@traumamattersdelaware.org
SUMMARY:Equity Action Summit  Moving Delaware Forward: From Equity Awareness To Action
DESCRIPTION:Join in the ongoing movement to advance equity for all as shared stewards! The goal is to work and learn together to ensure that all people and places in Delaware are thriving—no exceptions. \nRegistration Required!
URL:https://traumamattersdelaware.org/event/equity-action-summit/
ATTACH;FMTTYPE=image/png:https://traumamattersdelaware.org/wp-content/uploads/2021/04/TMD_Events_Image.png
END:VEVENT
END:VCALENDAR